BEGIN:VCALENDAR
VERSION:2.0
PRODID:SchoolNow
CALSCALE:GREGORIAN
BEGIN:VEVENT
UID:5501a2f6-3dc0-11ed-94f4-0eeccc23f04d
DTSTAMP:20230203T210326Z
SUMMARY:CDD Board Meeting - Feb 2023 CANCELLED
LOCATION:2365 Estuary Drive\, Venice\, FL
URL;VALUE=URI:https://www.stoneybrookatvenicecdd.org/calendar/3446170/cdd-b
 oard-meeting-feb-2023
DTSTART:20230209T230000Z
DTEND:20230210T000000Z
ATTACH;FILENAME=SBV 2023-02-09 Website Agenda.pdf;FMTTYPE=application/pdf:h
 ttps://campussuite-storage.s3.amazonaws.com/prod/1558999/2ab8277e-410e-11e
 a-b936-12c513967203/2546142/4ef71684-a346-11ed-a436-0e41234fef0d/file/SBV 
 2023-02-09 Website Agenda.pdf
END:VEVENT
END:VCALENDAR
